BEGIN:VCALENDAR
VERSION:2.0
PRODID:-//EVENTOS SJO - ECPv6.15.17.1//NONSGML v1.0//EN
CALSCALE:GREGORIAN
METHOD:PUBLISH
X-WR-CALNAME:EVENTOS SJO
X-ORIGINAL-URL:https://eventos.acasjo.com.br
X-WR-CALDESC:Eventos para EVENTOS SJO
REFRESH-INTERVAL;VALUE=DURATION:PT1H
X-Robots-Tag:noindex
X-PUBLISHED-TTL:PT1H
BEGIN:VTIMEZONE
TZID:America/Sao_Paulo
BEGIN:STANDARD
TZOFFSETFROM:-0300
TZOFFSETTO:-0300
TZNAME:-03
DTSTART:20240101T000000
END:STANDARD
END:VTIMEZONE
BEGIN:VEVENT
DTSTART;TZID=America/Sao_Paulo:20250720T113000
DTEND;TZID=America/Sao_Paulo:20250720T130000
DTSTAMP:20260422T055545
CREATED:20250624T142759Z
LAST-MODIFIED:20250624T160635Z
UID:610-1753011000-1753016400@eventos.acasjo.com.br
SUMMARY:Almoço Churrasco - 15ª Semana Alemã
DESCRIPTION:Prepare-se para um Domingo Inesquecível em São João do Oeste! 🍖🎶\nVenha celebrar a cultura alemã conosco em uma festa repleta de tradição\, sabor e muita alegria! \n📍 Local: Pavilhão Comunitário de São João do Oeste\n🗓️ Data: Domingo\, 20 de julho de 2025 \n🎉 PROGRAMAÇÃO IMPERDÍVEL: \n\n09h30: Comece o dia com fé na Missa Alemã\, na Igreja Matriz.\n11h30: Delicie-se com nosso tradicional churrasco e acompanhamentos!\n\nLembre-se: Traga seus pratos e talheres!\nValor da ficha adquirida antecipadamente:\n\nR$ 40\,00 – Adultos\nR$ 20\,00 – Crianças de 6 a 12 anos\n\n\n\n\n\nAlém do almoço delicioso\, teremos atrações para toda a família: \n\nMúsica ao vivo com o animado Trio Alvorecer\nShow Culural – Música e Dança Típica\nFestival da CUCA – Uma explosão de sabores!\nConcursos Típicos – Divirta-se e concorra!\nPraça de alimentação com diversas opções.\nSuper matinê de encerramento com o “Musical Monte Azul” para fechar o dia com chave de ouro!\n\nChame a família e os amigos e venha viver um dia especial conosco! Esperamos por você! \nPONTOS DE VENDA FICHAS ALMOÇO\n* Loja Toque Sensual – WhatsApp (49)3636-1721\n* Site do Evento \n📌 Compras online incluem taxa de administração
URL:https://eventos.acasjo.com.br/evento/almoco-churrasco-15a-semana-alema/
LOCATION:Pavilhão Comunitário\, Rua Encantado\, 01\, São João do Oeste\, Santa Catarina\, 89897-000\, Brasil
CATEGORIES:Alimentação
ATTACH;FMTTYPE=image/jpeg:https://eventos.acasjo.com.br/wp-content/uploads/2025/06/Churrasco.jpg
ORGANIZER;CN="Liebe Zum Tanz":MAILTO:afasjo@yahoo.com.br
END:VEVENT
END:VCALENDAR