BEGIN:VCALENDAR
VERSION:2.0
PRODID:-//EVENTOS SJO - ECPv6.15.17.1//NONSGML v1.0//EN
CALSCALE:GREGORIAN
METHOD:PUBLISH
X-WR-CALNAME:EVENTOS SJO
X-ORIGINAL-URL:https://eventos.acasjo.com.br
X-WR-CALDESC:Eventos para EVENTOS SJO
REFRESH-INTERVAL;VALUE=DURATION:PT1H
X-Robots-Tag:noindex
X-PUBLISHED-TTL:PT1H
BEGIN:VTIMEZONE
TZID:America/Sao_Paulo
BEGIN:STANDARD
TZOFFSETFROM:-0300
TZOFFSETTO:-0300
TZNAME:-03
DTSTART:20230101T000000
END:STANDARD
END:VTIMEZONE
BEGIN:VEVENT
DTSTART;TZID=America/Sao_Paulo:20240723T173000
DTEND;TZID=America/Sao_Paulo:20240723T230000
DTSTAMP:20260420T111651
CREATED:20240528T195622Z
LAST-MODIFIED:20240722T191509Z
UID:20-1721755800-1721775600@eventos.acasjo.com.br
SUMMARY:Café Colonial - 14. Deutsche Woche
DESCRIPTION:Café Colonial que é característico da cultura alemã. O ambiente especialmente preparado e a variedade de opções dos pratos (doces e salgados)\, fazem deste\, um dos atrativos mais procurados! \nLembrete: Levar Pratos/Talheres/Xícaras \nO café será servido em três horários: \n● 17h30min às 18h45min\n● 19h00min às 20h30min\n● 20h40min às 22h00min \nLOCAIS DE VENDA\n* Site do Evento\n* Recepção Prefeitura\n* Loja Toque Sensual \nVALORES\n* Adulto: R$ 60\,00\n* Juvenil (08 a 12 anos): 25\,00\n* Infantil (04 a 07 anos):  R$ 15\,00\nOBS: Por meio eletrônico\, acréscimo de taxa de administração
URL:https://eventos.acasjo.com.br/evento/cafe-colonial-14-deutsche-woche/
LOCATION:Sociedade Aliança\, Rua Santa Cruz\, São João do Oeste\, Santa Catarina\, 89897-000\, Brasil
CATEGORIES:Alimentação
ATTACH;FMTTYPE=image/jpeg:https://eventos.acasjo.com.br/wp-content/uploads/2024/05/Cafe-Colonial-Sympla-1.jpg
ORGANIZER;CN="Liebe Zum Tanz":MAILTO:afasjo@yahoo.com.br
END:VEVENT
END:VCALENDAR